BEGIN:VCALENDAR
VERSION:2.0
PRODID:-//Tukios.com/
BEGIN:VEVENT
UID:b6daa468-3eb5-4699-9137-9356212c271a@www.conleyrussellpica.com
DTSTAMP:20260422T230616Z
DTSTART:20260429T143000Z
DTEND:20260429T153000Z
SUMMARY:Mass
DESCRIPTION:
URL:https://www.conleyrussellpica.com/obituaries/madelyn-prendergast
LOCATION:Our Lady of Lourdes Church 439 West Street  Brockton MA 02301
GEO:42.0740486;-71.0433705
END:VEVENT
END:VCALENDAR