BEGIN:VCALENDAR
VERSION:2.0
PRODID:-//Tukios.com/
BEGIN:VEVENT
UID:36f5b966-e78f-41ca-b32e-be846eadc289@www.conleyrussellpica.com
DTSTAMP:20260422T225737Z
DTSTART:20260429T171500Z
DTEND:20260429T174500Z
SUMMARY:Burial
DESCRIPTION:
URL:https://www.conleyrussellpica.com/obituaries/madelyn-prendergast
LOCATION: Bourne  Bourne MA 00000
GEO:41.7495852;-70.6034258
END:VEVENT
END:VCALENDAR